BEGIN:VCALENDAR
PRODID:-//eluceo/ical//2.0/EN
VERSION:2.0
CALSCALE:GREGORIAN
BEGIN:VEVENT
UID:4d12e6b6409557de244b3de413fa40eb
DTSTAMP:20260423T174305Z
SUMMARY:TS Melton Class Year 1
DESCRIPTION:Jewish Federation of Greater Naples\nCommunity Calendar\nhttps:
 //jewishnaples.org/calendar/ts-melton-class-year-1-1557844199\n\nTS Melton
  Class Year 1 - events.org/meltonnaples
DTSTART;TZID=America/New_York:20191219T100000
DTEND;TZID=America/New_York:20191219T120000
END:VEVENT
END:VCALENDAR
