BEGIN:VCALENDAR
PRODID:-//eluceo/ical//2.0/EN
VERSION:2.0
CALSCALE:GREGORIAN
BEGIN:VEVENT
UID:185b087c49b64bbe2ecac839344a955e
DTSTAMP:20260421T205648Z
SUMMARY:TS Melton Class Year 1
DESCRIPTION:Jewish Federation of Greater Naples\nCommunity Calendar\nhttps:
 //jewishnaples.org/calendar/ts-melton-class-year-1-1557844033\n\nTS Melton
  Class Year 1 - events.org/meltonnaples
DTSTART;TZID=America/New_York:20191205T100000
DTEND;TZID=America/New_York:20191205T120000
END:VEVENT
END:VCALENDAR
