BEGIN:VCALENDAR
PRODID:-//eluceo/ical//2.0/EN
VERSION:2.0
CALSCALE:GREGORIAN
BEGIN:VEVENT
UID:2340d2cf0a312b017ace870cf6ed8f33
DTSTAMP:20260424T102736Z
SUMMARY:TS Megillah Reading
DESCRIPTION:Jewish Federation of Greater Naples\nCommunity Calendar\nhttps:
 //jewishnaples.org/calendar/ts-megillah-reading-1654783513\n\nMegillah Rea
 ding
DTSTART;TZID=America/New_York:20230307T090000
DTEND;TZID=America/New_York:20230307T100000
END:VEVENT
END:VCALENDAR
