BEGIN:VCALENDAR
PRODID:-//eluceo/ical//2.0/EN
VERSION:2.0
CALSCALE:GREGORIAN
BEGIN:VEVENT
UID:3314534bf2cf26b975d5d6017211600c
DTSTAMP:20260424T165945Z
SUMMARY:TS Major Fundraiser
DESCRIPTION:Jewish Federation of Greater Naples\nCommunity Calendar\nhttps:
 //jewishnaples.org/calendar/ts-major-fundraiser-1650638249\n\nTemple Shalo
 m's major fundraiser of the year.
DTSTART;TZID=America/New_York:20230325T190000
DTEND;TZID=America/New_York:20230325T210000
END:VEVENT
END:VCALENDAR
