BEGIN:VCALENDAR
PRODID:-//eluceo/ical//2.0/EN
VERSION:2.0
CALSCALE:GREGORIAN
BEGIN:VEVENT
UID:817931debde9031e82422ca0a29f9d02
DTSTAMP:20260423T123403Z
SUMMARY:TS Major Fundraiser
DESCRIPTION:Jewish Federation of Greater Naples\nCommunity Calendar\nhttps:
 //jewishnaples.org/calendar/ts-major-fundraiser-1588943392\n\nTentative
DTSTART;TZID=America/New_York:20210130T190000
DTEND;TZID=America/New_York:20210130T210000
END:VEVENT
END:VCALENDAR
