BEGIN:VCALENDAR
PRODID:-//eluceo/ical//2.0/EN
VERSION:2.0
CALSCALE:GREGORIAN
BEGIN:VEVENT
UID:0a62f1e2112149b32a095e5c8510a561
DTSTAMP:20260423T173718Z
SUMMARY:TS Major Fundraiser
DESCRIPTION:Jewish Federation of Greater Naples\nCommunity Calendar\nhttps:
 //jewishnaples.org/calendar/ts-major-fundraiser\n\nTemple Shalom Major Fun
 draiser
DTSTART;TZID=America/New_York:20240225T120000
DTEND;TZID=America/New_York:20240225T170000
END:VEVENT
END:VCALENDAR
