BEGIN:VCALENDAR
PRODID:-//eluceo/ical//2.0/EN
VERSION:2.0
CALSCALE:GREGORIAN
BEGIN:VEVENT
UID:e1405af0d41613dfeb9b25d1f7137204
DTSTAMP:20260423T145130Z
SUMMARY:TS Jewish Spirituality
DESCRIPTION:Jewish Federation of Greater Naples\nCommunity Calendar\nhttps:
 //jewishnaples.org/calendar/ts-jewish-spirituality-1590166420\n\nJewish Sp
 irituality
DTSTART;TZID=America/New_York:20210114T130000
DTEND;TZID=America/New_York:20210114T150000
END:VEVENT
END:VCALENDAR
