BEGIN:VCALENDAR
PRODID:-//eluceo/ical//2.0/EN
VERSION:2.0
CALSCALE:GREGORIAN
BEGIN:VEVENT
UID:eba8a64d37027f80ad47975323ee4139
DTSTAMP:20260423T002611Z
SUMMARY:TS Israeli Speaker
DESCRIPTION:Jewish Federation of Greater Naples\nCommunity Calendar\nhttps:
 //jewishnaples.org/calendar/ts-israeli-speaker\n\nFor more information\, p
 lease contact Temple Shalom at 239-455-3030.
DTSTART;TZID=America/New_York:20241102T190000
DTEND;TZID=America/New_York:20241102T210000
END:VEVENT
END:VCALENDAR
