BEGIN:VCALENDAR
PRODID:-//eluceo/ical//2.0/EN
VERSION:2.0
CALSCALE:GREGORIAN
BEGIN:VEVENT
UID:38dc4001fea93c3577ba9dbc1775d19c
DTSTAMP:20260423T113016Z
SUMMARY:TS Hockey Night
DESCRIPTION:Jewish Federation of Greater Naples\nCommunity Calendar\nhttps:
 //jewishnaples.org/calendar/ts-hockey-night-1495727788\n\nHockey game at G
 ermain Arena. Call Temple Shalom for more info
DTSTART;TZID=America/New_York:20171111T190000
DTEND;TZID=America/New_York:20171111T210000
END:VEVENT
END:VCALENDAR
