BEGIN:VCALENDAR
PRODID:-//eluceo/ical//2.0/EN
VERSION:2.0
CALSCALE:GREGORIAN
BEGIN:VEVENT
UID:e05ef5bd336c480029c3c96a096a4bcf
DTSTAMP:20260423T083950Z
SUMMARY:TS Hebrew School on Wednesdays
DESCRIPTION:Jewish Federation of Greater Naples\nCommunity Calendar\nhttps:
 //jewishnaples.org/calendar/ts-hebrew-school-on-wednesdays\n\nTemple Shalo
 m Hebrew School\n\nWednesdays from 4:45-6:00 pm.\n\n \n\nPlease check wit
 h Temple Shalom's calendar.
DTSTART;TZID=America/New_York:20170830T164500
DTEND;TZID=America/New_York:20170830T180000
END:VEVENT
END:VCALENDAR
