BEGIN:VCALENDAR
PRODID:-//eluceo/ical//2.0/EN
VERSION:2.0
CALSCALE:GREGORIAN
BEGIN:VEVENT
UID:dbedcfbd417813c0bd566142eff1161b
DTSTAMP:20260422T092907Z
SUMMARY:TS Hebrew School
DESCRIPTION:Jewish Federation of Greater Naples\nCommunity Calendar\nhttps:
 //jewishnaples.org/calendar/ts-hebrew-school-1590168579\n\nWednesday Hebre
 w School
DTSTART;TZID=America/New_York:20210127T164500
DTEND;TZID=America/New_York:20210127T180000
END:VEVENT
END:VCALENDAR
