BEGIN:VCALENDAR
PRODID:-//eluceo/ical//2.0/EN
VERSION:2.0
CALSCALE:GREGORIAN
BEGIN:VEVENT
UID:76c36f01ddc2937f7189b017b2666465
DTSTAMP:20260422T224203Z
SUMMARY:TS Hebrew School
DESCRIPTION:Jewish Federation of Greater Naples\nCommunity Calendar\nhttps:
 //jewishnaples.org/calendar/ts-hebrew-school-1590168444\n\nWednesday Hebre
 w School
DTSTART;TZID=America/New_York:20210106T164500
DTEND;TZID=America/New_York:20210106T180000
END:VEVENT
END:VCALENDAR
