BEGIN:VCALENDAR
PRODID:-//eluceo/ical//2.0/EN
VERSION:2.0
CALSCALE:GREGORIAN
BEGIN:VEVENT
UID:168d35f75ced39a3f7695d7d1bb9ebb6
DTSTAMP:20260423T200134Z
SUMMARY:TS Hebrew School
DESCRIPTION:Jewish Federation of Greater Naples\nCommunity Calendar\nhttps:
 //jewishnaples.org/calendar/ts-hebrew-school-1590072809\n\nHebrew School\n
 4630 Pine Ridge Road\, Naples\, FL 34119
DTSTART;TZID=America/New_York:20201018T113000
DTEND;TZID=America/New_York:20201018T130000
END:VEVENT
END:VCALENDAR
