BEGIN:VCALENDAR
PRODID:-//eluceo/ical//2.0/EN
VERSION:2.0
CALSCALE:GREGORIAN
BEGIN:VEVENT
UID:94f845ba1e21d3b73c19c118ccc00fa1
DTSTAMP:20260424T122255Z
SUMMARY:TS Hebrew School
DESCRIPTION:Jewish Federation of Greater Naples\nCommunity Calendar\nhttps:
 //jewishnaples.org/calendar/ts-hebrew-school-1589994906\n\nWednesday Hebre
 w School\n4630 Pine Ridge Road\, Naples\, FL 34119
DTSTART;TZID=America/New_York:20200902T164500
DTEND;TZID=America/New_York:20200902T180000
END:VEVENT
END:VCALENDAR
