BEGIN:VCALENDAR
PRODID:-//eluceo/ical//2.0/EN
VERSION:2.0
CALSCALE:GREGORIAN
BEGIN:VEVENT
UID:784f505acaf0202076c24bee76c0f9cf
DTSTAMP:20260422T044238Z
SUMMARY:TS Hebrew School
DESCRIPTION:Jewish Federation of Greater Naples\nCommunity Calendar\nhttps:
 //jewishnaples.org/calendar/ts-hebrew-school-1589993898\n\nHebrew School\n
 4630 Pine Ridge Road\, Naples\, FL 34119
DTSTART;TZID=America/New_York:20200913T113000
DTEND;TZID=America/New_York:20200913T130000
END:VEVENT
END:VCALENDAR
