BEGIN:VCALENDAR
PRODID:-//eluceo/ical//2.0/EN
VERSION:2.0
CALSCALE:GREGORIAN
BEGIN:VEVENT
UID:77a72ef7085e3b5d8df456efcb01210d
DTSTAMP:20260424T024952Z
SUMMARY:TS Hebrew School
DESCRIPTION:Jewish Federation of Greater Naples\nCommunity Calendar\nhttps:
 //jewishnaples.org/calendar/ts-hebrew-school-1589993650\n\nHebrew School\n
 4630 Pine Ridge Road\, Naples\, FL 34119
DTSTART;TZID=America/New_York:20200830T113000
DTEND;TZID=America/New_York:20200830T130000
END:VEVENT
END:VCALENDAR
