BEGIN:VCALENDAR
PRODID:-//eluceo/ical//2.0/EN
VERSION:2.0
CALSCALE:GREGORIAN
BEGIN:VEVENT
UID:0c31166a2b4a5b850a85aaf4ad2188b6
DTSTAMP:20260422T100334Z
SUMMARY:TS Hebrew School
DESCRIPTION:Jewish Federation of Greater Naples\nCommunity Calendar\nhttps:
 //jewishnaples.org/calendar/ts-hebrew-school-1589993476\n\nHebrew School\n
 4630 Pine Ridge Road\, Naples\, FL 34119
DTSTART;TZID=America/New_York:20200823T113000
DTEND;TZID=America/New_York:20200823T130000
END:VEVENT
END:VCALENDAR
