BEGIN:VCALENDAR
PRODID:-//eluceo/ical//2.0/EN
VERSION:2.0
CALSCALE:GREGORIAN
BEGIN:VEVENT
UID:a6b6bcac6f502095a4cca00d9d6bfcfd
DTSTAMP:20260424T104948Z
SUMMARY:TS Hebrew School
DESCRIPTION:Jewish Federation of Greater Naples\nCommunity Calendar\nhttps:
 //jewishnaples.org/calendar/ts-hebrew-school-1557764858\n\nTS Hebrew Schoo
 l
DTSTART;TZID=America/New_York:20190922T114500
DTEND;TZID=America/New_York:20190922T130000
END:VEVENT
END:VCALENDAR
