BEGIN:VCALENDAR
PRODID:-//eluceo/ical//2.0/EN
VERSION:2.0
CALSCALE:GREGORIAN
BEGIN:VEVENT
UID:4637b3b84459090f75252401a903f14d
DTSTAMP:20260424T023741Z
SUMMARY:TS Hebrew School
DESCRIPTION:Jewish Federation of Greater Naples\nCommunity Calendar\nhttps:
 //jewishnaples.org/calendar/ts-hebrew-school-1557764145\n\nTS Hebrew Schoo
 l
DTSTART;TZID=America/New_York:20190915T114500
DTEND;TZID=America/New_York:20190915T130000
END:VEVENT
END:VCALENDAR
