BEGIN:VCALENDAR
PRODID:-//eluceo/ical//2.0/EN
VERSION:2.0
CALSCALE:GREGORIAN
BEGIN:VEVENT
UID:d6e694701c46cbc0e515f808e6dcf4c9
DTSTAMP:20260422T233543Z
SUMMARY:TS Hebrew School
DESCRIPTION:Jewish Federation of Greater Naples\nCommunity Calendar\nhttps:
 //jewishnaples.org/calendar/ts-hebrew-school-1557762915\n\nTS Hebrew Schoo
 l
DTSTART;TZID=America/New_York:20190911T164500
DTEND;TZID=America/New_York:20190911T180000
END:VEVENT
END:VCALENDAR
