BEGIN:VCALENDAR
PRODID:-//eluceo/ical//2.0/EN
VERSION:2.0
CALSCALE:GREGORIAN
BEGIN:VEVENT
UID:51f55923e689cfbbf8c6c58d686cbc06
DTSTAMP:20260423T131259Z
SUMMARY:TS Havdalah
DESCRIPTION:Jewish Federation of Greater Naples\nCommunity Calendar\nhttps:
 //jewishnaples.org/calendar/ts-havdalah-1607022134\n\nBid farewell to Shab
 bat and welcome in the coming week. Watch via Facebook Live on the Temple 
 Shalom Facebook page - Templeshalomnaplesfl.
DTSTART;TZID=America/New_York:20201205T193000
DTEND;TZID=America/New_York:20201205T200000
END:VEVENT
END:VCALENDAR
