BEGIN:VCALENDAR
PRODID:-//eluceo/ical//2.0/EN
VERSION:2.0
CALSCALE:GREGORIAN
BEGIN:VEVENT
UID:373c4a6a136c242c43e5618852287a97
DTSTAMP:20260420T132012Z
SUMMARY:TS Hadassah Shabbat Service
DESCRIPTION:Jewish Federation of Greater Naples\nCommunity Calendar\nhttps:
 //jewishnaples.org/calendar/ts-hadassah-shabbat-service-1590169131\n\nHada
 ssah Shabbat Service
DTSTART;TZID=America/New_York:20210219T193000
DTEND;TZID=America/New_York:20210219T213000
END:VEVENT
END:VCALENDAR
