BEGIN:VCALENDAR
PRODID:-//eluceo/ical//2.0/EN
VERSION:2.0
CALSCALE:GREGORIAN
BEGIN:VEVENT
UID:a2122abe5afe1a135fc01f54322a3265
DTSTAMP:20260420T205105Z
SUMMARY:TS Fundr. Preschool Food Truck Palooza
DESCRIPTION:Jewish Federation of Greater Naples\nCommunity Calendar\nhttps:
 //jewishnaples.org/calendar/ts-fundr-preschool-food-truck-palooza\n\nTS Pr
 eschool Food Truck Palooza Fundraiser
DTSTART;TZID=America/New_York:20250302T120000
DTEND;TZID=America/New_York:20250302T140000
END:VEVENT
END:VCALENDAR
