BEGIN:VCALENDAR
PRODID:-//eluceo/ical//2.0/EN
VERSION:2.0
CALSCALE:GREGORIAN
BEGIN:VEVENT
UID:febdf3a5764aa441cddc743505f42d82
DTSTAMP:20260422T054452Z
SUMMARY:TS Foodie Films
DESCRIPTION:Jewish Federation of Greater Naples\nCommunity Calendar\nhttps:
 //jewishnaples.org/calendar/ts-foodie-films-1696872202\n\n"Chewdaism: A Ta
 ste of Jewish Montreal"\nRegistration required
DTSTART;TZID=America/New_York:20231207T100000
DTEND;TZID=America/New_York:20231207T120000
END:VEVENT
END:VCALENDAR
