BEGIN:VCALENDAR
PRODID:-//eluceo/ical//2.0/EN
VERSION:2.0
CALSCALE:GREGORIAN
BEGIN:VEVENT
UID:15f0efa81ccc941f00c83fe6767e1215
DTSTAMP:20260421T041952Z
SUMMARY:TS - Flory's Flame
DESCRIPTION:Jewish Federation of Greater Naples\nCommunity Calendar\nhttps:
 //jewishnaples.org/calendar/ts-florys-flame\n\nMovie - Flory's Flame
DTSTART;TZID=America/New_York:20241205T100000
DTEND;TZID=America/New_York:20241205T120000
END:VEVENT
END:VCALENDAR
