BEGIN:VCALENDAR
PRODID:-//eluceo/ical//2.0/EN
VERSION:2.0
CALSCALE:GREGORIAN
BEGIN:VEVENT
UID:40ddfbf72e01f1d20ae44ddbe549bf94
DTSTAMP:20260422T181238Z
SUMMARY:TS First Sunday Hebrew School
DESCRIPTION:Jewish Federation of Greater Naples\nCommunity Calendar\nhttps:
 //jewishnaples.org/calendar/ts-first-sunday-hebrew-school-1557762716\n\nTS
  First Sunday Hebrew School
DTSTART;TZID=America/New_York:20190908T114500
DTEND;TZID=America/New_York:20190908T130000
END:VEVENT
END:VCALENDAR
