BEGIN:VCALENDAR
PRODID:-//eluceo/ical//2.0/EN
VERSION:2.0
CALSCALE:GREGORIAN
BEGIN:VEVENT
UID:69dcbf01a209a4cd8b246d0b5d154379
DTSTAMP:20260422T231635Z
SUMMARY:TS Family Shabbat
DESCRIPTION:Jewish Federation of Greater Naples\nCommunity Calendar\nhttps:
 //jewishnaples.org/calendar/ts-family-shabbat-1557849272\n\nFor more infor
 mation please contact the Temple Shalom Religious School office at 239-455
 -2233 or religiousschool@naplestemple.org
DTSTART;TZID=America/New_York:20200207T173000
DTEND;TZID=America/New_York:20200207T193000
END:VEVENT
END:VCALENDAR
