BEGIN:VCALENDAR
PRODID:-//eluceo/ical//2.0/EN
VERSION:2.0
CALSCALE:GREGORIAN
BEGIN:VEVENT
UID:452f2307107555738c00f4722890d1d8
DTSTAMP:20260419T235231Z
SUMMARY:TS Ellen Allard
DESCRIPTION:Jewish Federation of Greater Naples\nCommunity Calendar\nhttps:
 //jewishnaples.org/calendar/ts-ellen-allard\n\nEllen Allard in concert!\n\
 n9:30 am\n\nFriday\, Feb. 3\n\nTemple Shalom Sanctuary\n\nComplimentary an
 d open to families with preschool age children.
DTSTART;TZID=America/New_York:20170203T093000
DTEND;TZID=America/New_York:20170203T093000
END:VEVENT
END:VCALENDAR
