BEGIN:VCALENDAR
PRODID:-//eluceo/ical//2.0/EN
VERSION:2.0
CALSCALE:GREGORIAN
BEGIN:VEVENT
UID:886dc29896edaba874b9414dfc3857fb
DTSTAMP:20260420T045352Z
SUMMARY:TS Confirmation Class
DESCRIPTION:Jewish Federation of Greater Naples\nCommunity Calendar\nhttps:
 //jewishnaples.org/calendar/ts-confirmation-class\n\nConfirmation Class\n\
 nFirst Tuesday of the month\n\n6:00-8:00 pm
DTSTART;TZID=America/New_York:20160906T180000
DTEND;TZID=America/New_York:20160906T180000
END:VEVENT
END:VCALENDAR
