BEGIN:VCALENDAR
PRODID:-//eluceo/ical//2.0/EN
VERSION:2.0
CALSCALE:GREGORIAN
BEGIN:VEVENT
UID:34a726951bfc1dc85422899df88984dd
DTSTAMP:20260422T233305Z
SUMMARY:TS Closed
DESCRIPTION:Jewish Federation of Greater Naples\nCommunity Calendar\nhttps:
 //jewishnaples.org/calendar/ts-closed-1590171113\n\nTemple Shalom Closed
DTSTART;TZID=America/New_York:20210517T083000
DTEND;TZID=America/New_York:20210517T170000
END:VEVENT
END:VCALENDAR
