BEGIN:VCALENDAR
PRODID:-//eluceo/ical//2.0/EN
VERSION:2.0
CALSCALE:GREGORIAN
BEGIN:VEVENT
UID:6d02bdeb57116d91705737bbbde0eeef
DTSTAMP:20260423T093942Z
SUMMARY:TS Closed
DESCRIPTION:Jewish Federation of Greater Naples\nCommunity Calendar\nhttps:
 //jewishnaples.org/calendar/ts-closed-1590158297\n\nTemple Shalom Closed
DTSTART;TZID=America/New_York:20210101T083000
DTEND;TZID=America/New_York:20210101T150000
END:VEVENT
END:VCALENDAR
