BEGIN:VCALENDAR
PRODID:-//eluceo/ical//2.0/EN
VERSION:2.0
CALSCALE:GREGORIAN
BEGIN:VEVENT
UID:60446534dfb0bdbb4e0ccfa550de33ad
DTSTAMP:20260421T220054Z
SUMMARY:TS Closed
DESCRIPTION:Jewish Federation of Greater Naples\nCommunity Calendar\nhttps:
 //jewishnaples.org/calendar/ts-closed-1589994272\n\nTemple Shalom Closed
DTSTART;TZID=America/New_York:20200907T083000
DTEND;TZID=America/New_York:20200907T170000
END:VEVENT
END:VCALENDAR
