BEGIN:VCALENDAR
PRODID:-//eluceo/ical//2.0/EN
VERSION:2.0
CALSCALE:GREGORIAN
BEGIN:VEVENT
UID:73537b37ccfe4bd766a8ad58c6a00a74
DTSTAMP:20260423T095703Z
SUMMARY:TS Children's Chocolate Seder
DESCRIPTION:Jewish Federation of Greater Naples\nCommunity Calendar\nhttps:
 //jewishnaples.org/calendar/ts-childrens-chocolate-seder-1525971394\n\nFor
  young children and their families. Traditional Passover seder foods are r
 eplaced with chocolate goodies.\nRSVP required
DTSTART;TZID=America/New_York:20190407T103000
DTEND;TZID=America/New_York:20190407T120000
END:VEVENT
END:VCALENDAR
