BEGIN:VCALENDAR
PRODID:-//eluceo/ical//2.0/EN
VERSION:2.0
CALSCALE:GREGORIAN
BEGIN:VEVENT
UID:61e683fe81cade69529cce7960380b1f
DTSTAMP:20260422T183404Z
SUMMARY:TS Challah Prince
DESCRIPTION:Jewish Federation of Greater Naples\nCommunity Calendar\nhttps:
 //jewishnaples.org/calendar/ts-challah-prince-1695140268\n\nBaking Challah
  with the famous Challah Prince. Contact Temple Shalom for more informatio
 n 239-455-3030.
DTSTART;TZID=America/New_York:20231213T190000
DTEND;TZID=America/New_York:20231213T210000
END:VEVENT
END:VCALENDAR
