BEGIN:VCALENDAR
PRODID:-//eluceo/ical//2.0/EN
VERSION:2.0
CALSCALE:GREGORIAN
BEGIN:VEVENT
UID:f3a2f03b939c9971876e812b4aacfb0f
DTSTAMP:20260423T073039Z
SUMMARY:TS Cabaret Night
DESCRIPTION:Jewish Federation of Greater Naples\nCommunity Calendar\nhttps:
 //jewishnaples.org/calendar/ts-cabaret-night-1650642715\n\nFor more inform
 ation\, visit the Temple Shalom website at www.naplestemple.org\, or call 
 the Temple Shalom office at 239-455-3030.
DTSTART;TZID=America/New_York:20221204T190000
DTEND;TZID=America/New_York:20221204T210000
END:VEVENT
END:VCALENDAR
