BEGIN:VCALENDAR
PRODID:-//eluceo/ical//2.0/EN
VERSION:2.0
CALSCALE:GREGORIAN
BEGIN:VEVENT
UID:87dd5427f17e2548b9fa0c2534828773
DTSTAMP:20260424T005825Z
SUMMARY:TS Cabaret Night
DESCRIPTION:Jewish Federation of Greater Naples\nCommunity Calendar\nhttps:
 //jewishnaples.org/calendar/ts-cabaret-night-1617224039\n\nReconnect with 
 old friends and make new friends while you enjoy delicious desserts. Live 
 music and dancing.
DTSTART;TZID=America/New_York:20211212T190000
DTEND;TZID=America/New_York:20211212T210000
END:VEVENT
END:VCALENDAR
