BEGIN:VCALENDAR
PRODID:-//eluceo/ical//2.0/EN
VERSION:2.0
CALSCALE:GREGORIAN
BEGIN:VEVENT
UID:0d6fcb9ff6b8e2e72013bffefd3114b2
DTSTAMP:20260422T181056Z
SUMMARY:TS Cabaret Night
DESCRIPTION:Jewish Federation of Greater Naples\nCommunity Calendar\nhttps:
 //jewishnaples.org/calendar/ts-cabaret-night-1495649031\n\nCabaret Night
DTSTART;TZID=America/New_York:20171203T190000
DTEND;TZID=America/New_York:20171203T210000
END:VEVENT
END:VCALENDAR
