BEGIN:VCALENDAR
PRODID:-//eluceo/ical//2.0/EN
VERSION:2.0
CALSCALE:GREGORIAN
BEGIN:VEVENT
UID:f08390fa6ce1392c2866e6277bb5deb5
DTSTAMP:20260421T175005Z
SUMMARY:TS Cabaret Night
DESCRIPTION:Jewish Federation of Greater Naples\nCommunity Calendar\nhttps:
 //jewishnaples.org/calendar/ts-cabaret-night\n\nTemple Shalom\n\nCabaret 
 Night
DTSTART;TZID=America/New_York:20161106T190000
DTEND;TZID=America/New_York:20161106T210000
END:VEVENT
END:VCALENDAR
