BEGIN:VCALENDAR
PRODID:-//eluceo/ical//2.0/EN
VERSION:2.0
CALSCALE:GREGORIAN
BEGIN:VEVENT
UID:85ece93130471dab21d531afcb6993a0
DTSTAMP:20260421T002519Z
SUMMARY:TS Board Meetings
DESCRIPTION:Jewish Federation of Greater Naples\nCommunity Calendar\nhttps:
 //jewishnaples.org/calendar/ts-board-meetings-1526666762\n\nTemple Shalom\
 nBoard Meetings
DTSTART;TZID=America/New_York:20180522T190000
DTEND;TZID=America/New_York:20180522T210000
END:VEVENT
END:VCALENDAR
