BEGIN:VCALENDAR
PRODID:-//eluceo/ical//2.0/EN
VERSION:2.0
CALSCALE:GREGORIAN
BEGIN:VEVENT
UID:c0e9edd387762bf3df4ef1b97719285b
DTSTAMP:20260421T202212Z
SUMMARY:TS Board meeting
DESCRIPTION:Jewish Federation of Greater Naples\nCommunity Calendar\nhttps:
 //jewishnaples.org/calendar/ts-board-meeting-1595271846\n\nTemple Shalom B
 oard meeting
DTSTART;TZID=America/New_York:20200825T190000
DTEND;TZID=America/New_York:20200825T190000
END:VEVENT
END:VCALENDAR
