BEGIN:VCALENDAR
PRODID:-//eluceo/ical//2.0/EN
VERSION:2.0
CALSCALE:GREGORIAN
BEGIN:VEVENT
UID:6e03fd5861df223cddc6cd09baf7087a
DTSTAMP:20260421T210351Z
SUMMARY:TS Board Meeting
DESCRIPTION:Jewish Federation of Greater Naples\nCommunity Calendar\nhttps:
 //jewishnaples.org/calendar/ts-board-meeting-1557849003\n\nTS Board Meetin
 g
DTSTART;TZID=America/New_York:20200225T190000
DTEND;TZID=America/New_York:20200225T210000
END:VEVENT
END:VCALENDAR
