BEGIN:VCALENDAR
PRODID:-//eluceo/ical//2.0/EN
VERSION:2.0
CALSCALE:GREGORIAN
BEGIN:VEVENT
UID:c870ff13d2480da16654e06551b22a1c
DTSTAMP:20260424T004515Z
SUMMARY:TS Blessing of the Animals
DESCRIPTION:Jewish Federation of Greater Naples\nCommunity Calendar\nhttps:
 //jewishnaples.org/calendar/ts-blessing-of-the-animals-1495648710\n\nBless
 ing of the animals
DTSTART;TZID=America/New_York:20171022T090000
DTEND;TZID=America/New_York:20171022T093000
END:VEVENT
END:VCALENDAR
