BEGIN:VCALENDAR
PRODID:-//eluceo/ical//2.0/EN
VERSION:2.0
CALSCALE:GREGORIAN
BEGIN:VEVENT
UID:5359983d799136ec4f6fd57fe389a48d
DTSTAMP:20260421T004412Z
SUMMARY:TS Beading for Betterment
DESCRIPTION:Jewish Federation of Greater Naples\nCommunity Calendar\nhttps:
 //jewishnaples.org/calendar/ts-beading-for-betterment-1557850362\n\nAre yo
 u interested in beading necklaces for the children to give to their mother
 s and grandmothers as gifts? This program benefits the children of the Gua
 dalupe Center\, It’s a wonderful opportunity to do a mitzvah! There is a
  minimal cost of $18/person\, Free if you bring your own supplies. RSVP to
  Carol Hirsch at chirsch1951@gmail.com.
DTSTART;TZID=America/New_York:20200318T123000
DTEND;TZID=America/New_York:20200318T143000
END:VEVENT
END:VCALENDAR
