BEGIN:VCALENDAR
PRODID:-//eluceo/ical//2.0/EN
VERSION:2.0
CALSCALE:GREGORIAN
BEGIN:VEVENT
UID:0c6a0698384bd4e077b01cf222e826f3
DTSTAMP:20260424T130707Z
SUMMARY:TS Beading for Betterment
DESCRIPTION:Jewish Federation of Greater Naples\nCommunity Calendar\nhttps:
 //jewishnaples.org/calendar/ts-beading-for-betterment-1557760073\n\nAre yo
 u interested in beading necklaces for the children to give their mothers a
 nd grandmothers as gifts? This progrsm beenfits the children of the Guadal
 upe Center. It's a wonderful opportunity to do a mitzvah! There is a minim
 al cost of $18/person\, FREE if you bring your own supplies. Please contac
 t Carol Hirsch for more information at chirsch1951@gmail.com.
DTSTART;TZID=America/New_York:20190717T123000
DTEND;TZID=America/New_York:20190717T143000
END:VEVENT
END:VCALENDAR
