BEGIN:VCALENDAR
PRODID:-//eluceo/ical//2.0/EN
VERSION:2.0
CALSCALE:GREGORIAN
BEGIN:VEVENT
UID:9f13ef034f0c65631d08d14188f3ac31
DTSTAMP:20260423T073059Z
SUMMARY:TS Beach Shabbat
DESCRIPTION:Jewish Federation of Greater Naples\nCommunity Calendar\nhttps:
 //jewishnaples.org/calendar/ts-beach-shabbat-1652721708\n\nWe meet at the 
 north end of Lowdermilk Park Beach. Bring a beach chair. There will be no 
 service at Temple Shalom on Friday\, September 2.\nPlease check the calend
 ar on our website for updates and schedule changes.
DTSTART;TZID=America/New_York:20220902T190000
DTEND;TZID=America/New_York:20220902T200000
END:VEVENT
END:VCALENDAR
