BEGIN:VCALENDAR
PRODID:-//eluceo/ical//2.0/EN
VERSION:2.0
CALSCALE:GREGORIAN
BEGIN:VEVENT
UID:41b85e9179df832c164facaf64d44368
DTSTAMP:20260422T122942Z
SUMMARY:TS Beach Shabbat
DESCRIPTION:Jewish Federation of Greater Naples\nCommunity Calendar\nhttps:
 //jewishnaples.org/calendar/ts-beach-shabbat-1652465171\n\nJoin us for our
  popular Beach Shabbat. We meet on the north end of Lowdermilk Park Beach.
  Bring a beach chair!
DTSTART;TZID=America/New_York:20220701T190000
DTEND;TZID=America/New_York:20220701T200000
END:VEVENT
END:VCALENDAR
