BEGIN:VCALENDAR
PRODID:-//eluceo/ical//2.0/EN
VERSION:2.0
CALSCALE:GREGORIAN
BEGIN:VEVENT
UID:5cdf6df14784650cdaad551f68144c08
DTSTAMP:20260423T041042Z
SUMMARY:TS Beach Shabbat
DESCRIPTION:Jewish Federation of Greater Naples\nCommunity Calendar\nhttps:
 //jewishnaples.org/calendar/ts-beach-shabbat-1590073227\n\nBeach Shabbat a
 t Lowdermilk Park
DTSTART;TZID=America/New_York:20201127T170000
DTEND;TZID=America/New_York:20201127T190000
END:VEVENT
END:VCALENDAR
