BEGIN:VCALENDAR
PRODID:-//eluceo/ical//2.0/EN
VERSION:2.0
CALSCALE:GREGORIAN
BEGIN:VEVENT
UID:edc758042618076e93d3155091e6bed6
DTSTAMP:20260423T023817Z
SUMMARY:TS Beach Shabbat
DESCRIPTION:Jewish Federation of Greater Naples\nCommunity Calendar\nhttps:
 //jewishnaples.org/calendar/ts-beach-shabbat-1557760904\n\nJoin us for a b
 eautiful Shabbat service on the beach. There will be no potluck dinner but
  you are invited to bring your own picnic dinner and drinks to enjoy follo
 wing the service. Don’t forget to bring a chair! The service will be at 
 Lowdermilk Beach Park (north end).
DTSTART;TZID=America/New_York:20190705T190000
DTEND;TZID=America/New_York:20190705T200000
END:VEVENT
END:VCALENDAR
