BEGIN:VCALENDAR
PRODID:-//eluceo/ical//2.0/EN
VERSION:2.0
CALSCALE:GREGORIAN
BEGIN:VEVENT
UID:5482533bc763485dfe154b4928c72e17
DTSTAMP:20260420T160040Z
SUMMARY:TS beach Shabbat & potluck dinner
DESCRIPTION:Jewish Federation of Greater Naples\nCommunity Calendar\nhttps:
 //jewishnaples.org/calendar/ts-beach-shabbat--potluck-dinner-1527794458\n\
 nJoin us in the gazebo at the north end of Lowdermilk for a potluck dinner
  at 6pm. Temple Shalom will provide the fried chicken. Please bring a dish
  to share\, your own beverage and a beach chair. After dinner we move to t
 he beach for a beautiful sunset Shabbat service at 7pm. Please RSVP to Tem
 ple Shalom to let us know you will be coming.
DTSTART;TZID=America/New_York:20180706T180000
DTEND;TZID=America/New_York:20180706T200000
END:VEVENT
END:VCALENDAR
