BEGIN:VCALENDAR
PRODID:-//eluceo/ical//2.0/EN
VERSION:2.0
CALSCALE:GREGORIAN
BEGIN:VEVENT
UID:c94735e7599aa4217dfe430e24f57d1f
DTSTAMP:20260420T163849Z
SUMMARY:TS Artist-in-Residence
DESCRIPTION:Jewish Federation of Greater Naples\nCommunity Calendar\nhttps:
 //jewishnaples.org/calendar/ts-artist-in-residence-1627487310\n\nArtist-in
 -Residence
DTSTART;TZID=America/New_York:20220130T100000
DTEND;TZID=America/New_York:20220130T120000
END:VEVENT
END:VCALENDAR
